BEGIN:VCALENDAR
VERSION:2.0
PRODID:-//Grenoble Trail - ECPv6.0.8//NONSGML v1.0//EN
CALSCALE:GREGORIAN
METHOD:PUBLISH
X-ORIGINAL-URL:https://www.grenobletrail.fr
X-WR-CALDESC:évènements pour Grenoble Trail
REFRESH-INTERVAL;VALUE=DURATION:PT1H
X-Robots-Tag:noindex
X-PUBLISHED-TTL:PT1H
BEGIN:VTIMEZONE
TZID:Europe/Paris
BEGIN:DAYLIGHT
TZOFFSETFROM:+0100
TZOFFSETTO:+0200
TZNAME:CEST
DTSTART:20220327T010000
END:DAYLIGHT
BEGIN:STANDARD
TZOFFSETFROM:+0200
TZOFFSETTO:+0100
TZNAME:CET
DTSTART:20221030T010000
END:STANDARD
END:VTIMEZONE
BEGIN:VEVENT
DTSTART;VALUE=DATE:20220721
DTEND;VALUE=DATE:20220725
DTSTAMP:20260420T070706
CREATED:20220128T163351Z
LAST-MODIFIED:20220128T163353Z
UID:14934-1658361600-1658707199@www.grenobletrail.fr
SUMMARY:Ultra tour des 4 Massifs (Ut4M)
DESCRIPTION:L’Ut4M 160 Xtrem est LA course parcourant tous les sommets. Une course se déroulant sur plusieurs jours consécutifs et vous faisant découvrir les 4 massifs entourant Grenoble et son agglomération : le Vercors\, le Taillefer\, Belledonne et la Chartreuse.
URL:https://www.grenobletrail.fr/evenement/14934/
CATEGORIES:Événement officiel
ATTACH;FMTTYPE=image/png:https://www.grenobletrail.fr/wp-content/uploads/2022/01/affiche_ut4m.png
END:VEVENT
BEGIN:VEVENT
DTSTART;VALUE=DATE:20220722
DTEND;VALUE=DATE:20220723
DTSTAMP:20260420T070706
CREATED:20220427T085046Z
LAST-MODIFIED:20220427T085046Z
UID:15063-1658448000-1658534399@www.grenobletrail.fr
SUMMARY:T'es Pas Cap
DESCRIPTION:Le principe est de courir à la tombée de la nuit et de partager le dessert accompagné de son verre de clairette\, tous ensemble à l’arrivée.
URL:https://www.grenobletrail.fr/evenement/tes-pas-cap/
LOCATION:Lans-en-Vercors\, Lans-En-Vercors\, 38250\, France
CATEGORIES:Événement officiel
ATTACH;FMTTYPE=image/jpeg:https://www.grenobletrail.fr/wp-content/uploads/2022/04/TES-PAS-CAP.jpg
END:VEVENT
END:VCALENDAR